BEGIN:VCALENDAR
VERSION:2.0
PRODID:-//Radcliffe Court Condominiums - ECPv6.15.20//NONSGML v1.0//EN
CALSCALE:GREGORIAN
METHOD:PUBLISH
X-WR-CALNAME:Radcliffe Court Condominiums
X-ORIGINAL-URL:https://radcliffecourtcondominiums.com
X-WR-CALDESC:Events for Radcliffe Court Condominiums
REFRESH-INTERVAL;VALUE=DURATION:PT1H
X-Robots-Tag:noindex
X-PUBLISHED-TTL:PT1H
BEGIN:VTIMEZONE
TZID:America/Halifax
BEGIN:DAYLIGHT
TZOFFSETFROM:-0400
TZOFFSETTO:-0300
TZNAME:ADT
DTSTART:20250309T060000
END:DAYLIGHT
BEGIN:STANDARD
TZOFFSETFROM:-0300
TZOFFSETTO:-0400
TZNAME:AST
DTSTART:20251102T050000
END:STANDARD
BEGIN:DAYLIGHT
TZOFFSETFROM:-0400
TZOFFSETTO:-0300
TZNAME:ADT
DTSTART:20260308T060000
END:DAYLIGHT
BEGIN:STANDARD
TZOFFSETFROM:-0300
TZOFFSETTO:-0400
TZNAME:AST
DTSTART:20261101T050000
END:STANDARD
BEGIN:DAYLIGHT
TZOFFSETFROM:-0400
TZOFFSETTO:-0300
TZNAME:ADT
DTSTART:20270314T060000
END:DAYLIGHT
BEGIN:STANDARD
TZOFFSETFROM:-0300
TZOFFSETTO:-0400
TZNAME:AST
DTSTART:20271107T050000
END:STANDARD
END:VTIMEZONE
BEGIN:VEVENT
DTSTART;TZID=America/Halifax:20260302T110000
DTEND;TZID=America/Halifax:20260302T120000
DTSTAMP:20260420T053629
CREATED:20250908T174530Z
LAST-MODIFIED:20260226T162914Z
UID:2166-1772449200-1772452800@radcliffecourtcondominiums.com
SUMMARY:First Quarter Board Meeting (CANCELLED)
DESCRIPTION:Join the meeting now\nMeeting ID: 267 242 616 725 3\nPasscode: 5VJ9Vu2R\nDial in by phone\n+1 972-371-0866\,\,821314626# United States\, Dallas\nFind a local number\nPhone conference ID: 821 314 626#\nBest regards\,\nRadcliffe Court Condo HOA
URL:https://radcliffecourtcondominiums.com/event/first-quarter-board-meeting/
CATEGORIES:meeting
END:VEVENT
END:VCALENDAR