BEGIN:VCALENDAR
VERSION:2.0
PRODID:-//Radcliffe Court Condominiums - ECPv6.15.20//NONSGML v1.0//EN
CALSCALE:GREGORIAN
METHOD:PUBLISH
X-WR-CALNAME:Radcliffe Court Condominiums
X-ORIGINAL-URL:https://radcliffecourtcondominiums.com
X-WR-CALDESC:Events for Radcliffe Court Condominiums
REFRESH-INTERVAL;VALUE=DURATION:PT1H
X-Robots-Tag:noindex
X-PUBLISHED-TTL:PT1H
BEGIN:VTIMEZONE
TZID:America/New_York
BEGIN:DAYLIGHT
TZOFFSETFROM:-0500
TZOFFSETTO:-0400
TZNAME:EDT
DTSTART:20250309T070000
END:DAYLIGHT
BEGIN:STANDARD
TZOFFSETFROM:-0400
TZOFFSETTO:-0500
TZNAME:EST
DTSTART:20251102T060000
END:STANDARD
BEGIN:DAYLIGHT
TZOFFSETFROM:-0500
TZOFFSETTO:-0400
TZNAME:EDT
DTSTART:20260308T070000
END:DAYLIGHT
BEGIN:STANDARD
TZOFFSETFROM:-0400
TZOFFSETTO:-0500
TZNAME:EST
DTSTART:20261101T060000
END:STANDARD
BEGIN:DAYLIGHT
TZOFFSETFROM:-0500
TZOFFSETTO:-0400
TZNAME:EDT
DTSTART:20270314T070000
END:DAYLIGHT
BEGIN:STANDARD
TZOFFSETFROM:-0400
TZOFFSETTO:-0500
TZNAME:EST
DTSTART:20271107T060000
END:STANDARD
END:VTIMEZONE
BEGIN:VEVENT
DTSTART;TZID=America/New_York:20260309T170000
DTEND;TZID=America/New_York:20260309T180000
DTSTAMP:20260420T055741
CREATED:20260226T163243Z
LAST-MODIFIED:20260226T163243Z
UID:2185-1773075600-1773079200@radcliffecourtcondominiums.com
SUMMARY:First Quarter Board Meeting
DESCRIPTION:Join Zoom Meeting \nhttps://us06web.zoom.us/j/88466770110?pwd=bo0bBpbBab4PyaQdLw7Bdc0GHnPsFu.1 \nMeeting ID: 884 6677 0110 \nPasscode: 806697 \n— \nOne tap mobile \n+13017158592\,\,88466770110#\,\,\,\,*806697# US (Washington DC) \n+13052241968\,\,88466770110#\,\,\,\,*806697# US \n— \nJoin by SIP \n\n88466770110@zoomcrc.com\n\nJoin instructions \nhttps://us06web.zoom.us/meetings/88466770110/invitations?signature=WTUCIcgal13gSBjxlYrmORXL0QIHcCCdOvA4JIOa4SQ
URL:https://radcliffecourtcondominiums.com/event/first-quarter-board-meeting-2/
END:VEVENT
END:VCALENDAR